Workbook
Name _ftn1: 'Value for Money'!#REF!
Name _ftn2: 'Value for Money'!$F$29
Name ghghjgh: #REF!
Name ghghjgh: #REF!
Name hjkz: #REF!
Name hjkz: #REF!

Sheet Podrobný rozpočet projektu
B6: Podrobný položkovitý rozpis výdavkov rozpočtu projektu
B8: Názov žiadateľa: | C8: Obec Chocholná-Velčice | K8: VO bolo ukončené. Výška výdavku bola stanovená na základe uzavretej zmluvy s úspešným uchádzačom a v súlade s údajmi, ktoré sú uvedené v tabuľke č. 12 formulára ŽoNFP - Verejné obstarávanie.
B9: Názov projektu: | C9: "Zníženie energetickej náročnosti budovy obecného úradu s kultúrnym domom v obci Chocholná-Velčice." | K9: VO nebolo ukončené uzavretím zmluvy s úspešným uchádzačom. Výška výdavku bola stanovená na základe prieskumu trhu v zmysle predloženého záznamu z vyhodnotenia prieskumu trhu a pri rešpektovaní stanoveného finančného limitu.
B10: Hodnota zníženia výdavkov [%]: | C10: 0 | K10: VO nebolo ukončené uzavretím zmluvy s úspešným uchádzačom. Výška výdavku bola stanovená na základe rozpočtu stavby na úrovni výkazu výmer potvrdeného podpisom a pečiatkou oprávnenej osoby (stavebný cenár/rozpočtár) v zmysle prílohy č. 10 ŽoNFP - Povolenie na realizáciu projektu, vrátane projektovej dokumentáciu a pri rešpektovaní stanoveného finančného limitu.
K11: VO nebolo ukončené. Spôsob stanovenia výšky výdavku je uvedený v poli "Vecný popis výdavku"
B12: Zníženie energetickej náročnosti budovy obecného úradu s kultúrnym domom v obci Chocholná-Velčice | K12: VO nebolo ukončené uzavretím zmluvy s úspešným uchádzačom. Výška výdavku bola stanovená na základe prieskumu trhu v zmysle predloženého záznamu z vyhodnotenia prieskumu trhu.
B13: Zateplenie obvodového plášťa
A14: Pol. č. | B14: Názov výdavku | C14: Skupina výdavkov | D14: Merná jednotka | E14: Počet jednotiek | F14: Jednotková cena bez DPH [EUR] | G14: Cena celkom bez DPH [EUR] | H14: Cena celkom s DPH [EUR] | I14: Oprávnený výdavok
A15: 1 | B15: Zakrývanie výplní vonk. otvorov z lešenia | C15: 021 Stavby | D15: m2 | E15: 151.26 | F15: 1.16 | G15: =ROUND(E15*F15,2) -> 175.46 | H15: =ROUND(G15*1.2,2) -> 210.55 | I15: =ROUND((G15*20/100+G15)*(1-($C$10)),2) -> 210.55
A16: 2 | B16: Oprava výtlkov omietok cement. hladkých hladených dreveným hladidlom 10-30%(predpoklad15%) | C16: 021 Stavby | D16: m2 | E16: 127.8 | F16: 5.2 | G16: =ROUND(E16*F16,2) -> 664.56 | H16: =ROUND(G16*1.2,2) -> 797.47 | I16: =ROUND((G16*20/100+G16)*(1-($C$10)),2) -> 797.47
A17: 3 | B17: Očistenie vonkajšej omietky vysokotlakovou súpravou WAP | C17: 021 Stavby | D17: m2 | E17: 854 | F17: 3.2 | G17: =ROUND(E17*F17,2) -> 2732.8 | H17: =ROUND(G17*1.2,2) -> 3279.36 | I17: =ROUND((G17*20/100+G17)*(1-($C$10)),2) -> 3279.36
A18: 4 | B18: Kontaktný zateplovací systém hr. MV 30 mm rímse objektu v skladbe O4 | C18: 021 Stavby | D18: m2 | E18: 103 | F18: 33.15 | G18: =ROUND(E18*F18,2) -> 3414.45 | H18: =ROUND(G18*1.2,2) -> 4097.34 | I18: =ROUND((G18*20/100+G18)*(1-($C$10)),2) -> 4097.34
A19: 5 | B19: Kontaktný zateplovací systém hr. 150 mm MV v skladbe P3 | C19: 021 Stavby | D19: m2 | E19: 19 | F19: 49.8 | G19: =ROUND(E19*F19,2) -> 946.2 | H19: =ROUND(G19*1.2,2) -> 1135.44 | I19: =ROUND((G19*20/100+G19)*(1-($C$10)),2) -> 1135.44
A20: 6 | B20: Kontaktný zateplovací systém hr. 200 mm MV(požiarne pásy + bleskozvod (O3,4) | C20: 021 Stavby | D20: m2 | E20: 108 | F20: 58.2 | G20: =ROUND(E20*F20,2) -> 6285.6 | H20: =ROUND(G20*1.2,2) -> 7542.72 | I20: =ROUND((G20*20/100+G20)*(1-($C$10)),2) -> 7542.72
A21: 7 | B21: Kontaktný zateplovací systém hr. 200 mm Grafit v skladbe O2 | C21: 021 Stavby | D21: m2 | E21: 686 | F21: 42.8 | G21: =ROUND(E21*F21,2) -> 29360.8 | H21: =ROUND(G21*1.2,2) -> 35232.96 | I21: =ROUND((G21*20/100+G21)*(1-($C$10)),2) -> 35232.96
A22: 8 | B22: Kontaktný zateplovací systém hr. 260 mm Grafit v skladbe O7 | C22: 021 Stavby | D22: m2 | E22: 22 | F22: 44 | G22: =ROUND(E22*F22,2) -> 968 | H22: =ROUND(G22*1.2,2) -> 1161.6 | I22: =ROUND((G22*20/100+G22)*(1-($C$10)),2) -> 1161.6
A23: 9 | B23: Kontaktný zateplovací systém hr. 160 mm sokla v skladbe O1 | C23: 021 Stavby | D23: m2 | E23: 77.5 | F23: 31 | G23: =ROUND(E23*F23,2) -> 2402.5 | H23: =ROUND(G23*1.2,2) -> 2883 | I23: =ROUND((G23*20/100+G23)*(1-($C$10)),2) -> 2883
A24: 10 | B24: Kontaktný zateplovací systém - odtrhové skúšky | C24: 021 Stavby | D24: hzs | E24: 4 | F24: 98.8 | G24: =ROUND(E24*F24,2) -> 395.2 | H24: =ROUND(G24*1.2,2) -> 474.24 | I24: =ROUND((G24*20/100+G24)*(1-($C$10)),2) -> 474.24
A25: 11 | B25: Zatepl.vonk.ostenia šírka do150mm om.su.zm. hr.30mm | C25: 021 Stavby | D25: m | E25: 95 | F25: 14.8 | G25: =ROUND(E25*F25,2) -> 1406 | H25: =ROUND(G25*1.2,2) -> 1687.2 | I25: =ROUND((G25*20/100+G25)*(1-($C$10)),2) -> 1687.2
A26: 12 | B26: Soklová lišta hr. 1 mm k zateplovaniu stien pre izolant hr. 200mm | C26: 021 Stavby | D26: m | E26: 122 | F26: 7.2 | G26: =ROUND(E26*F26,2) -> 878.4 | H26: =ROUND(G26*1.2,2) -> 1054.08 | I26: =ROUND((G26*20/100+G26)*(1-($C$10)),2) -> 1054.08
... A35: 21 | B35: Búranie výplne zo sklenených tvárnic hr. do 10 cm-pol.búranie Sk | C35: 021 Stavby | D35: m2 | E35: 6.03 | F35: 3.8 | G35: =ROUND(E35*F35,2) -> 22.91 | H35: =ROUND(G35*1.2,2) -> 27.49 | I35: =ROUND((G35*20/100+G35)*(1-($C$10)),2) -> 27.49
A36: 22 | B36: výplne | C36: 021 Stavby | G36: =ROUND(E36*F36,2) -> 0 | H36: =ROUND(G36*1.2,2) -> 0 | I36: =ROUND((G36*20/100+G36)*(1-($C$10)),2) -> 0
A37: 23 | B37: Odvoz sute a vybúraných hmôt na skládku do 1 km | C37: 021 Stavby | D37: t | E37: 0.732 | F37: 10.07 | G37: =ROUND(E37*F37,2) -> 7.37 | H37: =ROUND(G37*1.2,2) -> 8.84 | I37: =ROUND((G37*20/100+G37)*(1-($C$10)),2) -> 8.84
A38: 24 | B38: Odvoz sute a vybúraných hmôt na skládku každý ďalší 1 km | C38: 021 Stavby | D38: t | E38: 10.98 | F38: 0.31 | G38: =ROUND(E38*F38,2) -> 3.4 | H38: =ROUND(G38*1.2,2) -> 4.08 | I38: =ROUND((G38*20/100+G38)*(1-($C$10)),2) -> 4.08
A39: 25 | B39: Poplatok za ulož.a znešk.staveb.sute na vymedzených skládkach "O"-ostatný odpad | C39: 021 Stavby | D39: t | E39: 0.732 | F39: 16.77 | G39: =ROUND(E39*F39,2) -> 12.28 | H39: =ROUND(G39*1.2,2) -> 14.74 | I39: =ROUND((G39*20/100+G39)*(1-($C$10)),2) -> 14.74
A40: 26 | B40: Presun hmôt pre budovy murované výšky do 12 m | C40: 021 Stavby | D40: t | E40: 22.422 | F40: 7.61 | G40: =ROUND(E40*F40,2) -> 170.63 | H40: =ROUND(G40*1.2,2) -> 204.76 | I40: =ROUND((G40*20/100+G40)*(1-($C$10)),2) -> 204.76
A41: 27 | B41: Obloženie stien z dosiek OSB 3 pribíjaných na zraz hr. dosky 15 mm-rímsa, rímsa vstup | C41: 021 Stavby | D41: m2 | E41: 107 | F41: 13 | G41: =ROUND(E41*F41,2) -> 1391 | H41: =ROUND(G41*1.2,2) -> 1669.2 | I41: =ROUND((G41*20/100+G41)*(1-($C$10)),2) -> 1669.2
A42: 28 | B42: Spojovacie a ochranné prostriedky k montáži obloženia stropov alebo stien | C42: 021 Stavby | D42: m2 | E42: 107 | F42: 1.01 | G42: =ROUND(E42*F42,2) -> 108.07 | H42: =ROUND(G42*1.2,2) -> 129.68 | I42: =ROUND((G42*20/100+G42)*(1-($C$10)),2) -> 129.68
A43: 29 | B43: Presun hmôt pre tesárske konštr. v objektoch výšky do 12 m | C43: 021 Stavby | D43: t | E43: 0.065 | F43: 45.55 | G43: =ROUND(E43*F43,2) -> 2.96 | H43: =ROUND(G43*1.2,2) -> 3.55 | I43: =ROUND((G43*20/100+G43)*(1-($C$10)),2) -> 3.55
A44: 30 | B44: Klamp. demont. hákov, do 30° | C44: 021 Stavby | D44: kus | E44: 56 | F44: 0.6 | G44: =ROUND(E44*F44,2) -> 33.6 | H44: =ROUND(G44*1.2,2) -> 40.32 | I44: =ROUND((G44*20/100+G44)*(1-($C$10)),2) -> 40.32
A45: 31 | B45: Klamp. PZ pl. žľaby pododkvap. polkruh. rš 250 dl 5m- pol. K6 | C45: 021 Stavby | D45: m | E45: 11.5 | F45: 7.2 | G45: =ROUND(E45*F45,2) -> 82.8 | H45: =ROUND(G45*1.2,2) -> 99.36 | I45: =ROUND((G45*20/100+G45)*(1-($C$10)),2) -> 99.36
A46: 32 | B46: Zvodová rúra PZ ZR d-80 -pol. K7 | C46: 021 Stavby | D46: m | E46: 12 | F46: 3.8 | G46: =ROUND(E46*F46,2) -> 45.6 | H46: =ROUND(G46*1.2,2) -> 54.72 | I46: =ROUND((G46*20/100+G46)*(1-($C$10)),2) -> 54.72
A47: 33 | B47: Hák klamp.s prelisom polkruhový HP28 /430-25/5/,štandard-pre K6 | C47: 021 Stavby | D47: kus | E47: 11 | F47: 1.8 | G47: =ROUND(E47*F47,2) -> 19.8 | H47: =ROUND(G47*1.2,2) -> 23.76 | I47: =ROUND((G47*20/100+G47)*(1-($C$10)),2) -> 23.76
A48: 34 | B48: Hák klamp.s prelisom polkruhový HP33 /510-30/5/,štandard-pre K4 | C48: 021 Stavby | D48: kus | E48: 117 | F48: 2.85 | G48: =ROUND(E48*F48,2) -> 333.45 | H48: =ROUND(G48*1.2,2) -> 400.14 | I48: =ROUND((G48*20/100+G48)*(1-($C$10)),2) -> 400.14
... A92: 78 | B92: Presun hmôt pre kovové stav. doplnk. konštr. v objektoch výšky do 12 m | C92: 021 Stavby | D92: t | E92: 0.043 | F92: 35.39 | G92: =ROUND(E92*F92,2) -> 1.52 | H92: =ROUND(G92*1.2,2) -> 1.82 | I92: =ROUND((G92*20/100+G92)*(1-($C$10)),2) -> 1.82
B93: Spolu výdavky | G93: =SUM(G15:G92) -> 70293.63 | H93: =SUM(H15:H92) -> 84352.36 | I93: =SUM(I15:I92) -> 84352.36
B94: Zateplenie strešného plášťa
A95: Pol. č. | B95: Názov výdavku | C95: Skupina výdavkov | D95: Merná jednotka | E95: Počet jednotiek | F95: Jednotková cena bez DPH [EUR] | G95: Cena celkom bez DPH [EUR] | H95: Cena celkom s DPH [EUR] | I95: Oprávnený výdavok
A96: 1 | B96: Odvoz sute a vybúraných hmôt na skládku do 1 km | C96: 021 Stavby | D96: t | E96: 5.139 | F96: 10.07 | G96: =ROUND(E96*F96,2) -> 51.75 | H96: =ROUND(G96*1.2,2) -> 62.1 | I96: =ROUND((G96*20/100+G96)*(1-($C$10)),2) -> 62.1
A97: 2 | B97: Odvoz sute a vybúraných hmôt na skládku každý ďalší 1 km | C97: 021 Stavby | D97: t | E97: 77.085 | F97: 0.31 | G97: =ROUND(E97*F97,2) -> 23.9 | H97: =ROUND(G97*1.2,2) -> 28.68 | I97: =ROUND((G97*20/100+G97)*(1-($C$10)),2) -> 28.68
A98: 3 | B98: Nakladanie sute | C98: 021 Stavby | D98: t | E98: 5.139 | F98: 3.31 | G98: =ROUND(E98*F98,2) -> 17.01 | H98: =ROUND(G98*1.2,2) -> 20.41 | I98: =ROUND((G98*20/100+G98)*(1-($C$10)),2) -> 20.41
A99: 4 | B99: Poplatok za ulož.a znešk.staveb.sute na vymedzených skládkach "O"-ostatný odpad | C99: 021 Stavby | D99: t | E99: 5.139 | F99: 16.77 | G99: =ROUND(E99*F99,2) -> 86.18 | H99: =ROUND(G99*1.2,2) -> 103.42 | I99: =ROUND((G99*20/100+G99)*(1-($C$10)),2) -> 103.42
A100: 5 | B100: Zhotovenie povlakovej krytiny striech šikmých do 30° kotvenou, so zvarením spojov (skladbaS1, S2,S3,S4) | C100: 021 Stavby | D100: m2 | E100: 659 | F100: 6.5 | G100: =ROUND(E100*F100,2) -> 4283.5 | H100: =ROUND(G100*1.2,2) -> 5140.2 | I100: =ROUND((G100*20/100+G100)*(1-($C$10)),2) -> 5140.2
A101: 6 | B101: Fólia HYDROIZOL hr. 2,0 š.1300mm | C101: 021 Stavby | D101: m2 | E101: 679 | F101: 11.35 | G101: =ROUND(E101*F101,2) -> 7706.65 | H101: =ROUND(G101*1.2,2) -> 9247.98 | I101: =ROUND((G101*20/100+G101)*(1-($C$10)),2) -> 9247.98
A102: 7 | B102: Zhotovenie povl. krytiny striech do 30° položením separačnej vrstvy na sucho | C102: 021 Stavby | D102: m2 | E102: 678.77 | F102: 1.3 | G102: =ROUND(E102*F102,2) -> 882.4 | H102: =ROUND(G102*1.2,2) -> 1058.88 | I102: =ROUND((G102*20/100+G102)*(1-($C$10)),2) -> 1058.88
A103: 8 | B103: Separačná vrstva - 136 g/m2 - 2,10x150 m | C103: 021 Stavby | D103: m2 | E103: 693 | F103: 1.4 | G103: =ROUND(E103*F103,2) -> 970.2 | H103: =ROUND(G103*1.2,2) -> 1164.24 | I103: =ROUND((G103*20/100+G103)*(1-($C$10)),2) -> 1164.24
A104: 9 | B104: Zhotovenie paropriepustnej fólie na ploche stiech na sucho | C104: 021 Stavby | D104: m2 | E104: 678.77 | F104: 2.5 | G104: =ROUND(E104*F104,2) -> 1696.93 | H104: =ROUND(G104*1.2,2) -> 2036.32 | I104: =ROUND((G104*20/100+G104)*(1-($C$10)),2) -> 2036.32
A105: 10 | B105: Paropriepustná fólia 140g/m2, kladená s presahmi | C105: 021 Stavby | D105: m2 | E105: 693 | F105: 1.43 | G105: =ROUND(E105*F105,2) -> 990.99 | H105: =ROUND(G105*1.2,2) -> 1189.19 | I105: =ROUND((G105*20/100+G105)*(1-($C$10)),2) -> 1189.19
A106: 11 | B106: Presun hmôt pre izolácie povlakové v objektoch výšky do 12 m | C106: 021 Stavby | D106: t | E106: 2.156 | F106: 29.53 | G106: =ROUND(E106*F106,2) -> 63.67 | H106: =ROUND(G106*1.2,2) -> 76.4 | I106: =ROUND((G106*20/100+G106)*(1-($C$10)),2) -> 76.4
A107: 12 | B107: Montáž tep. izolácie striech rovn. hr. do 17 cm skrutky vnútor. pole v. do 20 m (2*položenie) | C107: 021 Stavby | D107: m2 | E107: 1495 | F107: 4.49 | G107: =ROUND(E107*F107,2) -> 6712.55 | H107: =ROUND(G107*1.2,2) -> 8055.06 | I107: =ROUND((G107*20/100+G107)*(1-($C$10)),2) -> 8055.06
... A126: 31 | B126: Presun hmôt pre klampiarske konštr. v objektoch výšky do 12 m | C126: 021 Stavby | D126: t | E126: 0.11 | F126: 48.33 | G126: =ROUND(E126*F126,2) -> 5.32 | H126: =ROUND(G126*1.2,2) -> 6.38 | I126: =ROUND((G126*20/100+G126)*(1-($C$10)),2) -> 6.38
B127: Spolu výdavky | G127: =SUM(G96:G126) -> 91605.54 | H127: =SUM(H96:H126) -> 109926.64 | I127: =SUM(I96:I126) -> 109926.64 | K127: VO nebolo ukončené uzavretím zmluvy s úspešným uchádzačom. Výška výdavku bola stanovená na základe prieskumu trhu v zmysle predloženého záznamu z vyhodnotenia prieskumu trhu.
B128: Výmena otvorových konštrukcií | K128: VO nebolo ukončené uzavretím zmluvy s úspešným uchádzačom. Výška výdavku bola stanovená na základe rozpočtu stavby na úrovni výkazu výmer potvrdeného podpisom a pečiatkou oprávnenej osoby (stavebný cenár/rozpočtár) v zmysle prílohy č. 10 ŽoNFP - Povolenie na realizáciu projektu, vrátane projektovej dokumentácie.
A129: Pol. č. | B129: Názov výdavku | C129: Skupina výdavkov | D129: Merná jednotka | E129: Počet jednotiek | F129: Jednotková cena bez DPH [EUR] | G129: Cena celkom bez DPH [EUR] | H129: Cena celkom s DPH [EUR] | I129: Oprávnený výdavok | K129: VO nebolo ukončené. Spôsob stanovenia výšky výdavku je uvedený v poli "Vecný popis výdavku"
A130: 1 | B130: Úprava vnút. ostení po výmene okien v položke Os | C130: 021 Stavby | D130: m2 | E130: 64 | F130: 14 | G130: =ROUND(E130*F130,2) -> 896 | H130: =ROUND(G130*1.2,2) -> 1075.2 | I130: =ROUND((G130*20/100+G130)*(1-($C$10)),2) -> 1075.2
A131: 2 | B131: Osadenie rámov okien z plastov do 1 m2 s montážnou penou | C131: 021 Stavby | D131: kus | E131: 1 | F131: 14.5 | G131: =ROUND(E131*F131,2) -> 14.5 | H131: =ROUND(G131*1.2,2) -> 17.4 | I131: =ROUND((G131*20/100+G131)*(1-($C$10)),2) -> 17.4
A132: 3 | B132: Osadenie rámov okien z plastov do 4 m2 s montážnou penou | C132: 021 Stavby | D132: kus | E132: 34 | F132: 32 | G132: =ROUND(E132*F132,2) -> 1088 | H132: =ROUND(G132*1.2,2) -> 1305.6 | I132: =ROUND((G132*20/100+G132)*(1-($C$10)),2) -> 1305.6
A133: 4 | B133: Osadenie rámov okien z plastov do 10 m2 s montážnou penou | C133: 021 Stavby | D133: kus | E133: 1 | F133: 41.85 | G133: =ROUND(E133*F133,2) -> 41.85 | H133: =ROUND(G133*1.2,2) -> 50.22 | I133: =ROUND((G133*20/100+G133)*(1-($C$10)),2) -> 50.22
A134: 5 | B134: Príplatok osadenie kotev. želiez pre okná a dvere | C134: 021 Stavby | D134: kus | E134: 154 | F134: 2.85 | G134: =ROUND(E134*F134,2) -> 438.9 | H134: =ROUND(G134*1.2,2) -> 526.68 | I134: =ROUND((G134*20/100+G134)*(1-($C$10)),2) -> 526.68
A135: 6 | B135: Osadenie dverných zárubní z plastov do 2,5 m2 s montážnou penou | C135: 021 Stavby | D135: kus | E135: 1 | F135: 18 | G135: =ROUND(E135*F135,2) -> 18 | H135: =ROUND(G135*1.2,2) -> 21.6 | I135: =ROUND((G135*20/100+G135)*(1-($C$10)),2) -> 21.6
A136: 7 | B136: Osadenie dverných zárubní z plastov do 4 m2 s montážnou penou | C136: 021 Stavby | D136: kus | E136: 3 | F136: 32 | G136: =ROUND(E136*F136,2) -> 96 | H136: =ROUND(G136*1.2,2) -> 115.2 | I136: =ROUND((G136*20/100+G136)*(1-($C$10)),2) -> 115.2
A137: 8 | B137: Osadenie parapetných dosák z plastických hmôt š. nad 20 cm | C137: 021 Stavby | D137: m | E137: 48.3 | F137: 3.4 | G137: =ROUND(E137*F137,2) -> 164.22 | H137: =ROUND(G137*1.2,2) -> 197.06 | I137: =ROUND((G137*20/100+G137)*(1-($C$10)),2) -> 197.06
A138: 9 | B138: Parapeta vnútorná komôrkové plastová šír.250 mm | C138: 021 Stavby | D138: m | E138: 47.9 | F138: 17 | G138: =ROUND(E138*F138,2) -> 814.3 | H138: =ROUND(G138*1.2,2) -> 977.16 | I138: =ROUND((G138*20/100+G138)*(1-($C$10)),2) -> 977.16
A139: 10 | B139: Parapeta vnútorná - koncovka plastová biela | C139: 021 Stavby | D139: pár | E139: 31 | F139: 1.8 | G139: =ROUND(E139*F139,2) -> 55.8 | H139: =ROUND(G139*1.2,2) -> 66.96 | I139: =ROUND((G139*20/100+G139)*(1-($C$10)),2) -> 66.96
A140: 11 | B140: Vyvesenie alebo zavesenie drev. krídiel okien do 1,5 m2-demontáž pol.1 a 2 | C140: 021 Stavby | D140: kus | E140: 62 | F140: 0.2 | G140: =ROUND(E140*F140,2) -> 12.4 | H140: =ROUND(G140*1.2,2) -> 14.88 | I140: =ROUND((G140*20/100+G140)*(1-($C$10)),2) -> 14.88
A141: 12 | B141: Vybúranie rámov okien drev. dvojitých alebo zdvoj. do 4 m2-polo.buranie 1,2 | C141: 021 Stavby | D141: m2 | E141: 78.663 | F141: 4 | G141: =ROUND(E141*F141,2) -> 314.65 | H141: =ROUND(G141*1.2,2) -> 377.58 | I141: =ROUND((G141*20/100+G141)*(1-($C$10)),2) -> 377.58
... A167: 38 | B167: Presun hmôt pre kovové stav. doplnk. konštr. v objektoch výšky do 6 m | C167: 021 Stavby | D167: t | E167: 1.899 | F167: 30.15 | G167: =ROUND(E167*F167,2) -> 57.25 | H167: =ROUND(G167*1.2,2) -> 68.7 | I167: =ROUND((G167*20/100+G167)*(1-($C$10)),2) -> 68.7
B168: Spolu výdavky | G168: =SUM(G130:G167) -> 33819.01 | H168: =SUM(H130:H167) -> 40582.81 | I168: =SUM(I130:I167) -> 40582.81 | K168: VO nebolo ukončené uzavretím zmluvy s úspešným uchádzačom. Výška výdavku bola stanovená na základe prieskumu trhu v zmysle predloženého záznamu z vyhodnotenia prieskumu trhu.
B169: Ostatné
A170: Pol. č. | B170: Názov výdavku | C170: Skupina výdavkov | D170: Merná jednotka | E170: Počet jednotiek | F170: Jednotková cena bez DPH [EUR] | G170: Cena celkom bez DPH [EUR] | H170: Cena celkom s DPH [EUR] | I170: Oprávnený výdavok | K170: VO bolo ukončené. Výška výdavku bola stanovená na základe uzavretej zmluvy s úspešným uchádzačom a v súlade s údajmi, ktoré sú uvedené v tabuľke č. 12 formulára ŽoNFP - Verejné obstarávanie.
A171: 1 | B171: Projektová dokumentácia | C171: 021 Stavby | D171: počet | E171: 1 | F171: =16100/1.2 -> 13416.667 | G171: =ROUND(E171*F171,2) -> 13416.67 | H171: =ROUND(G171*1.2,2) -> 16100 | I171: =ROUND(G171*1.2,2) -> 16100 | K171: VO nebolo ukončené uzavretím zmluvy s úspešným uchádzačom. Výška výdavku bola stanovená na základe prieskumu trhu v zmysle predloženého záznamu z vyhodnotenia prieskumu trhu .
A172: 2 | B172: Energetický audit | C172: 518 Ostatné služby | D172: počet | E172: 1 | F172: 1500 | G172: =ROUND(E172*F172,2) -> 1500 | H172: =ROUND(G172*1,2) -> 1500 | I172: =ROUND(G172*(1-($C$10)),2) -> 1500
A173: 3 | B173: Časť bezbariérový vstup
A174: 4 | B174: Základové dosky zo železobetónu tr. C16/20-pod vonkajšiu rampu | C174: 021 Stavby | D174: m3 | E174: 5.67 | F174: 97 | G174: =ROUND(E174*F174,2) -> 549.99 | H174: =ROUND(G174*1.2,2) -> 659.99 | I174: =ROUND((G174*20/100+G174)*(1-($C$10)),2) -> 659.99
A175: 5 | B175: Výstuž dosiek zo zvarovaných sietí | C175: 021 Stavby | D175: t | E175: 0.6 | F175: 1420 | G175: =ROUND(E175*F175,2) -> 852 | H175: =ROUND(G175*1.2,2) -> 1022.4 | I175: =ROUND((G175*20/100+G175)*(1-($C$10)),2) -> 1022.4
A176: 6 | B176: Vyrovnávacie lôžko zo štrkopiesku hr.do 150 mm | C176: 021 Stavby | D176: m2 | E176: 32 | F176: 7.8 | G176: =ROUND(E176*F176,2) -> 249.6 | H176: =ROUND(G176*1.2,2) -> 299.52 | I176: =ROUND((G176*20/100+G176)*(1-($C$10)),2) -> 299.52
A177: 7 | B177: Otriskanie povrchu, kamienkový koberec bezb vstupu ( Ch1, Ch2) | C177: 021 Stavby | D177: m2 | E177: 39 | F177: 7.2 | G177: =ROUND(E177*F177,2) -> 280.8 | H177: =ROUND(G177*1.2,2) -> 336.96 | I177: =ROUND((G177*20/100+G177)*(1-($C$10)),2) -> 336.96
A178: 8 | B178: Povrchová úprava vonkajšej bet. plochy kamienkovým kobercom, vratane úpravy penetráciou | C178: 021 Stavby | D178: m2 | E178: 38.5 | F178: 15.8 | G178: =ROUND(E178*F178,2) -> 608.3 | H178: =ROUND(G178*1.2,2) -> 729.96 | I178: =ROUND((G178*20/100+G178)*(1-($C$10)),2) -> 729.96
A179: 9 | B179: Brúsenie nerovností betónových podláh do 2 mm - stiahnutie výstupku na starom betone vstupu do saly | C179: 021 Stavby | D179: m2 | E179: 9 | F179: 4.8 | G179: =ROUND(E179*F179,2) -> 43.2 | H179: =ROUND(G179*1.2,2) -> 51.84 | I179: =ROUND((G179*20/100+G179)*(1-($C$10)),2) -> 51.84
A180: 10 | B180: Rezanie stávajúceho betónového krytu alebo podkladu hr. nad 12 do 13 cm - pre rampu | C180: 021 Stavby | D180: m | E180: 18.5 | F180: 13.5 | G180: =ROUND(E180*F180,2) -> 249.75 | H180: =ROUND(G180*1.2,2) -> 299.7 | I180: =ROUND((G180*20/100+G180)*(1-($C$10)),2) -> 299.7
A181: 11 | B181: Búr. podkl. betón alebo liat. asfalt hr. nad 10 cm nad 4 m2 | C181: 021 Stavby | D181: m3 | E181: 7.8 | F181: 67 | G181: =ROUND(E181*F181,2) -> 522.6 | H181: =ROUND(G181*1.2,2) -> 627.12 | I181: =ROUND((G181*20/100+G181)*(1-($C$10)),2) -> 627.12
A182: 12 | B182: Búranie bet. podkladu s poterom hr. do 15 cm nad 4 m2-predložene schody | C182: 021 Stavby | D182: m3 | E182: 1.05 | F182: 71.55 | G182: =ROUND(E182*F182,2) -> 75.13 | H182: =ROUND(G182*1.2,2) -> 90.16 | I182: =ROUND((G182*20/100+G182)*(1-($C$10)),2) -> 90.16
A183: 13 | B183: Odvoz sute a vybúraných hmôt na skládku do 1 km | C183: 021 Stavby | D183: t | E183: 19.47 | F183: 10.07 | G183: =ROUND(E183*F183,2) -> 196.06 | H183: =ROUND(G183*1.2,2) -> 235.27 | I183: =ROUND((G183*20/100+G183)*(1-($C$10)),2) -> 235.27
A184: 14 | B184: Odvoz sute a vybúraných hmôt na skládku každý ?alší 1 km | C184: 021 Stavby | D184: t | E184: 389.4 | F184: 0.31 | G184: =ROUND(E184*F184,2) -> 120.71 | H184: =ROUND(G184*1.2,2) -> 144.85 | I184: =ROUND((G184*20/100+G184)*(1-($C$10)),2) -> 144.85
A185: 15 | B185: Nakladanie sute | C185: 021 Stavby | D185: t | E185: 19.47 | F185: 3.31 | G185: =ROUND(E185*F185,2) -> 64.45 | H185: =ROUND(G185*1.2,2) -> 77.34 | I185: =ROUND((G185*20/100+G185)*(1-($C$10)),2) -> 77.34
... A190: 20 | B190: Presun hmôt pre kovové stav. doplnk. konštr. v objektoch výšky do 6 m | C190: 021 Stavby | D190: t | E190: 0.048 | F190: 30.15 | G190: =ROUND(E190*F190,2) -> 1.45 | H190: =ROUND(G190*1.2,2) -> 1.74 | I190: =ROUND((G190*20/100+G190)*(1-($C$10)),2) -> 1.74
A191: 21 | B191: Ostatné práce
A192: 22 | B192: Odkopávky a prekopávky nezapaž. v horn. tr. 1-2 do 100 m3 - buracie pol. 20 | C192: 021 Stavby | D192: m3 | E192: 10.46 | F192: 3.2 | G192: =ROUND(E192*F192,2) -> 33.47 | H192: =ROUND(G192*1.2,2) -> 40.16 | I192: =ROUND((G192*20/100+G192)*(1-($C$10)),2) -> 40.16
A193: 23 | B193: Hĺbenie rýh š. 35, hl. 30, zem. tr. 1 a 2 - pre záhonový obrubník | C193: 021 Stavby | D193: m | E193: 118.96 | F193: 1.25 | G193: =ROUND(E193*F193,2) -> 148.7 | H193: =ROUND(G193*1.2,2) -> 178.44 | I193: =ROUND((G193*20/100+G193)*(1-($C$10)),2) -> 178.44
A194: 24 | B194: Rozprestr. ornice po pozemku hr. 10cm | C194: 021 Stavby | D194: m2 | E194: 60 | F194: 0.8 | G194: =ROUND(E194*F194,2) -> 48 | H194: =ROUND(G194*1.2,2) -> 57.6 | I194: =ROUND((G194*20/100+G194)*(1-($C$10)),2) -> 57.6
A195: 25 | B195: Lôžko pod dlažbu zo štrkopiesku hr.do 150 mm | C195: 021 Stavby | D195: m2 | E195: 61.04 | F195: 6.52 | G195: =ROUND(E195*F195,2) -> 397.98 | H195: =ROUND(G195*1.2,2) -> 477.58 | I195: =ROUND((G195*20/100+G195)*(1-($C$10)),2) -> 477.58
A196: 26 | B196: Osadenie vymývanej dlažby ( 500*500*40) pre okapový chodník | C196: 021 Stavby | D196: m2 | E196: 67.2 | F196: 4.5 | G196: =ROUND(E196*F196,2) -> 302.4 | H196: =ROUND(G196*1.2,2) -> 362.88 | I196: =ROUND((G196*20/100+G196)*(1-($C$10)),2) -> 362.88
A197: 27 | B197: Dlažba vymývaná VMD 50x50x4 šedé kamenivo | C197: 021 Stavby | D197: m2 | E197: 74 | F197: 21.2 | G197: =ROUND(E197*F197,2) -> 1568.8 | H197: =ROUND(G197*1.2,2) -> 1882.56 | I197: =ROUND((G197*20/100+G197)*(1-($C$10)),2) -> 1882.56
A198: 28 | B198: Trativody z flexodrenážnych rúr DN 100 so štrkopieskovým lôžkom a obsypom - | C198: 021 Stavby | D198: m | E198: 45 | F198: 32 | G198: =ROUND(E198*F198,2) -> 1440 | H198: =ROUND(G198*1.2,2) -> 1728 | I198: =ROUND((G198*20/100+G198)*(1-($C$10)),2) -> 1728
A199: 29 | B199: Osad. chodník. obrubníka betón. stojatého bez opory do lôžka z kameniva | C199: 021 Stavby | D199: m | E199: 118.96 | F199: 3.2 | G199: =ROUND(E199*F199,2) -> 380.67 | H199: =ROUND(G199*1.2,2) -> 456.8 | I199: =ROUND((G199*20/100+G199)*(1-($C$10)),2) -> 456.8
A200: 30 | B200: Obrubník záhonový ABO 45-25 100x5x25 | C200: 021 Stavby | D200: kus | E200: 123 | F200: 4.25 | G200: =ROUND(E200*F200,2) -> 522.75 | H200: =ROUND(G200*1.2,2) -> 627.3 | I200: =ROUND((G200*20/100+G200)*(1-($C$10)),2) -> 627.3
A201: 31 | B201: Rezanie stávajúceho betónového krytu alebo podkladu hr. nad 12 do 13 cm | C201: 021 Stavby | D201: m | E201: 124.7 | F201: 13.5 | G201: =ROUND(E201*F201,2) -> 1683.45 | H201: =ROUND(G201*1.2,2) -> 2020.14 | I201: =ROUND((G201*20/100+G201)*(1-($C$10)),2) -> 2020.14
A202: 32 | B202: Montáž lešenia priestorového modulového ľahkého, bez podlahy, zaťaženie do 200 kg/m2 v do 10 m | C202: 021 Stavby | D202: m3 | E202: 816.75 | F202: 1.05 | G202: =ROUND(E202*F202,2) -> 857.59 | H202: =ROUND(G202*1.2,2) -> 1029.11 | I202: =ROUND((G202*20/100+G202)*(1-($C$10)),2) -> 1029.11
A203: 33 | B203: Príplatok k lešeniu priestorovému modulovému ľahkému bez podlahy v do 10 m za prvý a ZKD deň použitia | C203: 021 Stavby | D203: m3 | E203: 816.75 | F203: 0.06 | G203: =ROUND(E203*F203,2) -> 49.01 | H203: =ROUND(G203*1.2,2) -> 58.81 | I203: =ROUND((G203*20/100+G203)*(1-($C$10)),2) -> 58.81
... A236: 66 | B236: Žaluzie horizontálne MT25 biele do okna (pol.2) dvojkr.145/175 okná , ovladanie retiazka | C236: 021 Stavby | D236: kus | E236: 31 | F236: 48 | G236: =ROUND(E236*F236,2) -> 1488 | H236: =ROUND(G236*1.2,2) -> 1785.6 | I236: =ROUND((G236*20/100+G236)*(1-($C$10)),2) -> 1785.6
...

Sheet Referenčné hodnoty
A2: Príloha ŽoNFP č. 11 - Podporná dokumentácia k oprávnenosti výdavkov
A9: Referenčné hodnoty pre vybrané výdavky projektu
A10: (hodnotenie hospodárnosti a efektívnosti výdavkov projektu)
A12: Názov žiadateľa: | B12: ='Podrobný rozpočet projektu'!C8:I8 -> #VALUE!
A13: Názov projektu: | B13: ='Podrobný rozpočet projektu'!C9:I9 -> #VALUE!
A15: Referenčné hodnoty pre vybrané výdavky projektu v rámci výzvy s kódom OPKZP-PO4-SC431-2016-XY
A16: Predmet projektu | B16: Referenčné hodnoty pre vybrané výdavky projektu | E16: Výstup projektu
A18: Zníženie energetickej náročnosti verejných budov – Zateplenie obvodového plášťa | B18: 85 EUR/m2 | E18: Zateplenie plochy obvodového plášťa | G18: 425000
A19: Zníženie energetickej náročnosti verejných budov – Zateplenie strešného plášťa | B19: 70 EUR/m2 | E19: Zateplenie plochy strešného plášťa | G19: 480000
A20: Zníženie energetickej náročnosti verejných budov – Výmena otvorových konštrukcií | B20: 350 EUR/m2 | E20: Výmena vonkajšej otvorovej konštrukcie | G20: 250000
A23: Výpočet referenčnej hodnoty pre vybrané výdavky projektu na zateplenie obvodového plášťa Výpočet referenčnej hodnoty pre vybrané výdavky projektu sa vykoná automaticky po zadaní predmetu projektu a cieľovej hodnoty príslušnej zateplenej plochy obvodového plášťa projektu.
A24: Predmet projektu | B24: =A18 -> Zníženie energetickej náročnosti verejných budov – Zateplenie obvodového plášťa
A25: Výstup projektu | B25: =E18 -> Zateplenie plochy obvodového plášťa
A26: Referenčná hodnota pre vybrané výdavky projektu v EUR/m2 | B26: 85
A27: Celkové oprávnené výdavky na hlavné aktivity bez rezervy, DPH a stavebného dozoru | B27: 70293.63
A28: Cieľová hodnota zateplenej plochy obvodového plášťa v m2 | B28: 958.5
A29: Vypočítaná hodnota referenčnej hodnoty pre vybrané výdavky projektu v EUR/m2 | B29: =B27/B28 -> 73.337121
A30: =IF(B29>B26,"Je potrebné zdôvodniť prekročenie benchmarku !","OK") -> OK
A32: Zdôvodnenie prekročenia referenčnej hodnoty pre vybrané výdavky projektu: v prípade prekročenia stanovenej referenčnej hodnoty pre vybrané výdavky projektu bude žiadateľ povinný zdôvodniť prekročenie referenčnej hodnoty faktormi zvýšenej investičnej náročnosti. Žiadateľ v zdôvodnení popíše výdavky, ktoré najvýznamnejšie vplývajú na prekročenie referenčnej hodnoty a zdôvodní ich nevyhnutnosť. SO posúdi, či toto prekročenie zodpovedá navrhnutému riešeniu a faktorom zvýšenej investičnej náročnosti, ktoré môžu objektívne spôsobiť zvýšenie investičnej náročnosti projektu. To znamená, že výdavky nad referenčnú hodnotu pre vybrané výdavky projektu budú akceptovateľné ako oprávnené iba v objektívne odôvodnených prípadoch. Zároveň platí, že prekročenie referenčnej hodnoty pre vybrané výdavky projektu bez relevantného a overiteľného odôvodnenia nebude vyhodnotené ako nesplnenie vylučujúceho hodnotiaceho kritéria 4.2 Hospodárnosť a efektívnosť výdavkov projektu, s tým, že tieto výdavky budú znížené a projekt nebude diskvalifikovaný.
A35: Výpočet referenčnej hodnoty pre vybrané výdavky projektu na zateplenie strešného plášťa Výpočet referenčnej hodnoty pre vybrané výdavky projektu sa vykoná automaticky po zadaní predmetu projektu a cieľovej hodnoty zateplenej plochy strešného plášťa projektu.
A36: Predmet projektu | B36: =A19 -> Zníženie energetickej náročnosti verejných budov – Zateplenie strešného plášťa
A37: Výstup projektu | B37: =E19 -> Zateplenie plochy strešného plášťa
A38: Referenčná hodnota pre vybrané výdavky projektu v EUR/m2 | B38: 70
A39: Celkové oprávnené výdavky na hlavné aktivity bez rezervy, DPH a stavebného dozoru | B39: 91605.54
A40: Cieľová hodnota zateplenej plochy strešného plášťa v m2 | B40: 775.9
A41: Vypočítaná hodnota referenčnej hodnoty pre vybrané výdavky projektu v EUR/m2 | B41: =B39/B40 -> 118.06359
A42: =IF(B41>B38,"Je potrebné zdôvodniť prekročenie benchmarku !","OK") -> Je potrebné zdôvodniť prekročenie benchmarku !
A44: Zdôvodnenie prekročenia referenčnej hodnoty pre vybrané výdavky projektu: v prípade prekročenia stanovenej referenčnej hodnoty pre vybrané výdavky projektu bude žiadateľ povinný zdôvodniť prekročenie referenčnej hodnoty faktormi zvýšenej investičnej náročnosti. Žiadateľ v zdôvodnení popíše výdavky, ktoré najvýznamnejšie vplývajú na prekročenie referenčnej hodnoty a zdôvodní ich nevyhnutnosť. SO posúdi, či toto prekročenie zodpovedá navrhnutému riešeniu a faktorom zvýšenej investičnej náročnosti, ktoré môžu objektívne spôsobiť zvýšenie investičnej náročnosti projektu. To znamená, že výdavky nad referenčnú hodnotu pre vybrané výdavky projektu budú akceptovateľné ako oprávnené iba v objektívne odôvodnených prípadoch. Zároveň platí, že prekročenie referenčnej hodnoty pre vybrané výdavky projektu bez relevantného a overiteľného odôvodnenia nebude vyhodnotené ako nesplnenie vylučujúceho hodnotiaceho kritéria 4.2 Hospodárnosť a efektívnosť výdavkov projektu, s tým, že tieto výdavky budú znížené a projekt nebude diskvalifikovaný.
A47: Výpočet referenčnej hodnoty pre vybrané výdavky projektu pre výmenu otvorových konštrukcií Výpočet referenčnej hodnoty pre vybrané výdavky projektu sa vykoná automaticky po zadaní predmetu projektu a cieľovej hodnoty výmeny otvorových konštrukcií projektu.
A48: Predmet projektu | B48: =A20 -> Zníženie energetickej náročnosti verejných budov – Výmena otvorových konštrukcií
A49: Výstup projektu | B49: =E20 -> Výmena vonkajšej otvorovej konštrukcie
A50: Referenčná hodnota pre vybrané výdavky projektu v EUR/m2 | B50: 350
A51: Celkové oprávnené výdavky na hlavné aktivity bez rezervy, DPH a stavebného dozoru | B51: 33819.01
A52: Cieľová hodnota výmeny otvorových konštrukcií v m2 | B52: 112.6
A53: Vypočítaná hodnota referenčnej hodnoty pre vybrané výdavky projektu v EUR/m2 | B53: =B51/B52 -> 300.34645
A54: =IF(B53>B50,"Je potrebné zdôvodniť prekročenie benchmarku !","OK") -> OK
A56: Zdôvodnenie prekročenia referenčnej hodnoty pre vybrané výdavky projektu: v prípade prekročenia stanovenej referenčnej hodnoty pre vybrané výdavky projektu bude žiadateľ povinný zdôvodniť prekročenie referenčnej hodnoty faktormi zvýšenej investičnej náročnosti. Žiadateľ v zdôvodnení popíše výdavky, ktoré najvýznamnejšie vplývajú na prekročenie referenčnej hodnoty a zdôvodní ich nevyhnutnosť. SO posúdi, či toto prekročenie zodpovedá navrhnutému riešeniu a faktorom zvýšenej investičnej náročnosti, ktoré môžu objektívne spôsobiť zvýšenie investičnej náročnosti projektu. To znamená, že výdavky nad referenčnú hodnotu pre vybrané výdavky projektu budú akceptovateľné ako oprávnené iba v objektívne odôvodnených prípadoch. Zároveň platí, že prekročenie referenčnej hodnoty pre vybrané výdavky projektu bez relevantného a overiteľného odôvodnenia nebude vyhodnotené ako nesplnenie vylučujúceho hodnotiaceho kritéria 4.2 Hospodárnosť a efektívnosť výdavkov projektu, s tým, že tieto výdavky budú znížené a projekt nebude diskvalifikovaný.
A63: Chocholná-Velčice dňa 08.11.2017 | D63: Pečiatka a podpis štatutárneho orgánu žiadateľa

Sheet Prieskum trhu
A2: Príloha ŽoNFP č. 11 - Podporná dokumentácia k oprávnenosti výdavkov
A11: Záznam z vyhodnotenia prieskumu trhu č. 1
A14: Názov žiadateľa: | C14: 0
A15: Názov projektu: | C15: 0
A17: Názov výdavku
A18: Stručný opis výdavku
A21: Prehľad ponúkaných cien
A23: Ponuka číslo | B23: Dodávateľ (obchodné meno a sídlo) | F23: Cena | H23: Dátum vykonania prieskumu | I23: Spôsob vykonania
F24: bez DPH | G24: s DPH
A25: 1.
A26: 2.
A27: 3.
A28: Priemerná výška | F28: =(F25+F26+F27)/3 -> 0 | G28: =(G25+G26+G27)/3 -> 0
A31: Vyhodnotenie ponúk
A33: Výška výdavku stanovená na základe prieskumu trhu
A37: V ........................................ dňa ............. | F37: Pečiatka a podpis štatutárneho orgánu žiadateľa
A39: Upozornenia:
A40: - Žiadateľ uvádza výšku výdavku, ktorá zodpovedá priemeru cien stanoveného na základe predložených ponúk, pričom sa zohľadňuje oprávnenosť financovania výdavku predstavujúceho DPH v rámci projektu. To znamená, že ak žiadateľ nemá nárok na odpočet DPH, uvádza výšku výdavku stanovenú na základe priemeru cien s DPH. Ak žiadateľ má nárok na odpočet DPH, uvádza ako výsledok prieskumu trhu výšku výdavku stanovenú na základe výpočtu priemeru z cien bez DPH. Ak dodávateľ nie je platca DPH uvádza sa v poli "cena bez DPH" a v poli "cena s DPH" rovnakú sumu.
A41: - V prípade, ak žiadateľ uvedie v rozpočte projektu výšku výdavku, ktorú stanovil na základe prieskumu trhu a táto výška výdavku prekročí sumu priemernej ceny stanovenej na základe preložených ponúk v zmysle vyhodnotenia prieskumu trhu, SO zníži príslušný nadhodnotený výdavok na úroveň priemernej ceny vypočítanej na základe hodnoty predložených cenových ponúk uvádzaných v tomto zázname z vyhodnotenia prieskumu trhu. SO je oprávnený upraviť výšku výdavku aj na základe ním vykonaného prieskumu trhu.
A42: - Žiadateľ predkladá k záznamu z vyhodnotenia písomného prieskumu trhu ako súčasť ŽoNFP aj cenové ponuky. Z dôvodu overiteľnosti vykonaného prieskumu trhu musí byť spôsob jeho vykonania v podobe, ktorá umožňuje uchovanie dôkazov o jeho vykonaní, t. j. telefonický prieskum, resp. ústne overenie cien na mieste u dodávateľa nie je akceptovateľný spôsob vykonania prieskumu trhu.
A43: - V prípade, ak žiadateľ vykonal viacej prieskumov trhu (t. j. výšku viacerých výdavkov stanovil prieskumom trhu), vyplní a predloží záznam z vyhodnotenia prieskumu trhu samostatne pre každý vykonaný prieskum trhu. Za týmto účelom žiadateľ v tomto hárku nakopíruje pod seba, očísluje (od 1 po n) a vyplní potrebný počet formulárov záznamu z vyhodnotenia prieskumu trhu. Všetky vyplnené záznamy z vyhodnotenia prieskumu trhu je žiadateľ povinný predložiť písomne aj editovateľnou elektronickou formou (nie sken) prostredníctvom ITMS2014+.
A44: - V prípade, ak žiadateľ vyberie v poli s názvom "Spôsob vykonania" možnosť "iný spôsob", je potrebné tento spôsob vykonania prieskumu trhu popísať v poli s názvom "Poznámka".
A45: Záznam z vyhodnotenia prieskumu trhu č. n
A47: Názov žiadateľa: | C47: 0
A48: Názov projektu: | C48: mesiac
A50: Názov výdavku
A51: Stručný popis výdavku
A54: Prehľad ponúkaných cien
A56: Ponuka číslo | B56: Dodávateľ (obchodné meno a sídlo) | F56: Cena | H56: Dátum vykonania prieskumu | I56: Spôsob vykonania
F57: bez DPH | G57: s DPH
A58: 1.
A59: 2.
A60: 3.
A61: Priemerná výška | F61: =(F58+F59+F60)/3 -> 0 | G61: =(G58+G59+G60)/3 -> 0
A64: Vyhodnotenie ponúk
A66: Výška výdavku stanovená na základe prieskumu trhu
A70: V ........................................ dňa ............. | F70: Pečiatka a podpis štatutárneho orgánu žiadateľa

Sheet Value for Money
A2: Príloha ŽoNFP č. 11 - Podporná dokumentácia k oprávnenosti výdavkov
A11: Príspevok projektu k špecifickému cieľu OP KŽP - princíp Value for Money
A14: Názov žiadateľa: | B14: ='Podrobný rozpočet projektu'!C8:I8 -> #VALUE!
A15: Názov projektu: | B15: ='Podrobný rozpočet projektu'!C9:I9 -> #VALUE!
A17: SO posudzuje v procese odborného hodnotenia ŽoNFP (hodnotiace kritérium 1.2) príspevok projektu k špecifickému cieľu 4.3.1 OP KŽP na základe princípu Value for Money. Uvedené znamená, že SO posudzuje kvantifikovanú mieru príspevku projektu k špecifickému cieľu 4.3.1 OP KŽP vyjadrenú na základe princípu Value for Money ako pomer celkových oprávnených výdavkov na hlavné aktivity projektu v sume vyjadrenej bez DPH a deklarovanej cieľovej hodnoty príslušného ukazovateľa projektu vzťahujúceho sa na špecifický cieľ 4.3.1 OP KŽP.
A19: Predmet projektu | B19: Miera príspevku projektu k špecifickému cieľu | C19: Limitné hodnoty (EUR/kWh/rok) | D19: Počet bodov v odbornom hodnotení za kritérium 1.2 | E19: Merateľný ukazovateľ
A20: Zníženie energetickej náročnosti verejných budov | B20: nízka | C20: viac ako 2,5 | D20: 5 | E20: Zníženie potreby energie vo verejných budovách
B21: stredná | C21: 1,5 – 2,5 | D21: 10
B22: vysoká | C22: menej ako 1,5 | D22: 15
A25: Výpočet hodnoty Value for Money Vypočítajte hodnotu príspevku projektu k príslušnému špecifickému cieľu OP KŽP ako pomer celkových oprávnených výdavkov na hlavné aktivity projektu v sume vyjadrenej bez DPH a deklarovanej cieľovej hodnoty ukazovateľa projektu – Zníženie potreby energie vo verejných budovách. Do výpočtu nevstupujú nepriame výdavky vzťahujúce sa na podporné aktivity projektu (riadenie projektu, informovanie a komunikácia). V prípade identifikácie neoprávnených výdavkov projektu (z titulu vecnej neoprávnenosti, neúčelnosti, nehospodárnosti a pod.) sa v procese odborného hodnotenia výška celkových oprávnených výdavkov projektu adekvátne zníži. Do výpočtu hodnoty Value for Money v tomto prípade vstupuje už odborným hodnotiteľom korigovaná výška celkových oprávnených výdavkov projektu (bez DPH).
U27: Výstavba, rozšírenie a zvýšenie kapacity kanalizácie (špecifický cieľ 1.2.1)
A28: Výpočet hodnoty Value for Money pre zníženie energetickej náročnosti verejných budov
A29: Celkové oprávnené výdavky na hlavné aktivity bez DPH | C29: ='Podrobný rozpočet projektu'!G530 -> 348863.75
A30: Cieľová hodnota merateľného ukazovateľa projektu v kWh/rok | C30: 428846.3
A31: Vypočítaná hodnota Value for Money | C31: =C29/C30 -> 0.81349367
A36: Chocholná-Velčice dňa 08.11.2017 | D36: Pečiatka a podpis štatutárneho orgánu žiadateľa

Sheet Úspora-vykurovanie
B1: Príloha ŽoNFP č. 11 - Podporná dokumentácia k oprávnenosti výdavkov
A8: Plánovaná úspora energie na vykurovanie
A10: Názov žiadateľa: | D10: Obec Chocholná-Velčice
A11: Názov projektu: | D11: "Zníženie energetickej náročnosti budovy obecného úradu s kultúrnym domom v obci Chocholná-Velčice."
A12: Budova n: | D12: Budova obecného úradu s kultúrnym domom v obci Chocholná - Velčice
A14: Potreba energia na vykurovanie | D14: [kWh/(m2.a)]
A15: Potreba energie na vykurovanie PRED [kWh/(m2.a)] | D15: 318747.18
A16: Potreba energie na vykurovanie PO [kWh/(m2.a)] | D16: 35298.65
A17: Výpočet celkovej plánovanej úspory energie na vykurovanie
A18: Plánovaná úspora energie na vykurovanie [%] | D18: =100*((D15-D16)/D15) -> 88.925816 | L18: =IF(D18>50,"1",IF(D18>=40,"2",IF(D18>=30,"3","0"))) -> 1 | M18: 0 | N18: Celková výška oprávnených výdavkov projektu sa neznižuje a teda celková výška oprávnených výdavkov prestavuje 100 %, ak plánovaná úspora energie na vykurovanie dosiahne viac ako 50 %.
A19: Výpočet celkového zníženia výšky oprávnených výdavkov projektu | M19: 5 | N19: Celková výška oprávnených výdavkov sa zníži o 5 percentuálnych bodov, ak plánovaná úspora energie na vykurovanie dosiahne viac ako 40 %, ale nepresiahne 50 %, t. j. žiadateľ určí výšku oprávnených výdavkov na projekt ako 95 % celkovej výšky oprávnených výdavkov projektu.
A20: Celkové zníženie oprávnených výdavkov projektu [%] | F20: Hodnota zníženia výdavkov [%] | M20: 10 | N20: Celková výška oprávnených výdavkov sa zníži o 10 percentuálnych bodov, ak plánovaná úspora energie na vykurovanie dosiahne viac ako 30 %, ale nepresiahne 40 %, t. j. žiadateľ určí výšku oprávnených výdavkov na projekt ako 90 % celkovej výšky oprávnených výdavkov projektu.
A21: =IF(D18>50,N18,IF(D18>=40,N19,IF(D18>=30,N20,N21))) -> Celková výška oprávnených výdavkov projektu sa neznižuje a teda celková výška oprávnených výdavkov prestavuje 100 %, ak plánovaná úspora energie na vykurovanie dosiahne viac ako 50 %. | F21: =IF(D18>50,"0%",IF(D18>=40,"5%",IF(D18>=30,"10%","projekt je neoprávnený"))) -> 0% | M21: 100 | N21: Ak plánovaná úspora energie na vykurovanie dosiahne najviac 30 %, projekt nespĺňa podmienky oprávnenosti aktivít a nemôže byť podporený.
A23: Upozornenia:
A24: V prípade, ak je predmetom projektu viac samostatných budov so samostatným energetickým auditom, sa výdavky upravia o najvyššiu hodnotu zníženia výdavkov. V prípade ak jedna y budov nedosiahne úsporu energie na vykurovanie aspoň 30 % projekt bude neoprávnený ako celok.
A25: V tabuľke je uvedený príklad vyplnenia údajov s ohľadom na určenie plánovanej úspory energie na vykurovanie.
A26: V prípade, ak v priebehu realizácie projektu na základe identifikácie reálneho stavu dôjde v podstatne zmenenom rozsahu v akom bola zohľadnená plánovaná úspora energie na vykurovanie pri podaní ŽoNFP, pričom tento rozsah predstavuje podstatnú zmenu, SO môže požadovať rekalkuláciu celkového zníženia oprávnených výdavkov projektu za účelom overenia správnej výšky oprávnených výdavkov.
A27: V zmysle časti 6.6. písmeno a) zmluvy o poskytnutí NFP, v prípade Merateľných ukazovateľov Projektu s príznakom ich hodnota nesmie klesnúť pod hranicu 50% ich výšky. Zníženie jednotlivého Merateľného ukazovateľa Projektu s príznakom o viac ako 50% oproti výške, ktorá bola uvedená v Schválenej žiadosti o NFP, môže predstavovať Podstatnú zmenu Projektu a vyvolávať právne následky.
A28: V prípade, ak je predmetom projektu viac samostatných budov so samostatným energetickým auditom, žiadateľ vyplní a predloží samostatne výpočet plánovanej úspory energie na vykurovanie za každú budovu. Za týmto účelom žiadateľ v tomto hárku nakopíruje pod seba, očísluje (od 1 po n) a vyplní potrebný počet formulárov výpočtu plánovanej úspory. Všetky vyplnené záznamy z výpočtu plánovanej úspory je žiadateľ povinný predložiť písomne aj editovateľnou elektronickou formou (nie sken) prostredníctvom ITMS2014+.
