Workbook
Name _ftn1: 'Value for Money'!#REF!
Name _ftn2: 'Value for Money'!$F$29
Name ghghjgh: #REF!
Name ghghjgh: #REF!
Name hjkz: #REF!
Name hjkz: #REF!

Sheet Podrobný rozpočet projektu
B6: Podrobný položkovitý rozpis výdavkov rozpočtu projektu
B8: Názov žiadateľa: | C8: Obec Chocholná-Velčice | K8: VO bolo ukončené. Výška výdavku bola stanovená na základe uzavretej zmluvy s úspešným uchádzačom a v súlade s údajmi, ktoré sú uvedené v tabuľke č. 12 formulára ŽoNFP - Verejné obstarávanie.
B9: Názov projektu: | C9: "Zníženie energetickej náročnosti budovy obecného úradu s kultúrnym domom v obci Chocholná-Velčice." | K9: VO nebolo ukončené uzavretím zmluvy s úspešným uchádzačom. Výška výdavku bola stanovená na základe prieskumu trhu v zmysle predloženého záznamu z vyhodnotenia prieskumu trhu a pri rešpektovaní stanoveného finančného limitu.
B10: Hodnota zníženia výdavkov [%]: | C10: 0 | K10: VO nebolo ukončené uzavretím zmluvy s úspešným uchádzačom. Výška výdavku bola stanovená na základe rozpočtu stavby na úrovni výkazu výmer potvrdeného podpisom a pečiatkou oprávnenej osoby (stavebný cenár/rozpočtár) v zmysle prílohy č. 10 ŽoNFP - Povolenie na realizáciu projektu, vrátane projektovej dokumentáciu a pri rešpektovaní stanoveného finančného limitu.
K11: VO nebolo ukončené. Spôsob stanovenia výšky výdavku je uvedený v poli "Vecný popis výdavku"
B12: Zníženie energetickej náročnosti budovy obecného úradu s kultúrnym domom v obci Chocholná-Velčice | K12: VO nebolo ukončené uzavretím zmluvy s úspešným uchádzačom. Výška výdavku bola stanovená na základe prieskumu trhu v zmysle predloženého záznamu z vyhodnotenia prieskumu trhu.
B13: Zateplenie obvodového plášťa
A14: Pol. č. | B14: Názov výdavku | C14: Skupina výdavkov | D14: Merná jednotka | E14: Počet jednotiek | F14: Jednotková cena bez DPH [EUR] | G14: Cena celkom bez DPH [EUR] | H14: Cena celkom s DPH [EUR] | I14: Oprávnený výdavok
A15: 1 | B15: Zakrývanie výplní vonk. otvorov z lešenia | C15: 021 Stavby | D15: m2 | E15: 151.26 | F15: 1.16 | G15: =ROUND(E15*F15,2) -> 175.46 | H15: =ROUND(G15*1.2,2) -> 210.55 | I15: =ROUND((G15*20/100+G15)*(1-($C$10)),2) -> 210.55
A16: 2 | B16: Oprava výtlkov omietok cement. hladkých hladených dreveným hladidlom 10-30%(predpoklad15%) | C16: 021 Stavby | D16: m2 | E16: 127.8 | F16: 5.2 | G16: =ROUND(E16*F16,2) -> 664.56 | H16: =ROUND(G16*1.2,2) -> 797.47 | I16: =ROUND((G16*20/100+G16)*(1-($C$10)),2) -> 797.47
A17: 3 | B17: Očistenie vonkajšej omietky vysokotlakovou súpravou WAP | C17: 021 Stavby | D17: m2 | E17: 854 | F17: 3.2 | G17: =ROUND(E17*F17,2) -> 2732.8 | H17: =ROUND(G17*1.2,2) -> 3279.36 | I17: =ROUND((G17*20/100+G17)*(1-($C$10)),2) -> 3279.36
A18: 4 | B18: Kontaktný zateplovací systém hr. MV 30 mm rímse objektu v skladbe O4 | C18: 021 Stavby | D18: m2 | E18: 103 | F18: 33.15 | G18: =ROUND(E18*F18,2) -> 3414.45 | H18: =ROUND(G18*1.2,2) -> 4097.34 | I18: =ROUND((G18*20/100+G18)*(1-($C$10)),2) -> 4097.34
A19: 5 | B19: Kontaktný zateplovací systém hr. 150 mm MV v skladbe P3 | C19: 021 Stavby | D19: m2 | E19: 19 | F19: 49.8 | G19: =ROUND(E19*F19,2) -> 946.2 | H19: =ROUND(G19*1.2,2) -> 1135.44 | I19: =ROUND((G19*20/100+G19)*(1-($C$10)),2) -> 1135.44
A20: 6 | B20: Kontaktný zateplovací systém hr. 200 mm MV(požiarne pásy + bleskozvod (O3,4) | C20: 021 Stavby | D20: m2 | E20: 108 | F20: 58.2 | G20: =ROUND(E20*F20,2) -> 6285.6 | H20: =ROUND(G20*1.2,2) -> 7542.72 | I20: =ROUND((G20*20/100+G20)*(1-($C$10)),2) -> 7542.72
A21: 7 | B21: Kontaktný zateplovací systém hr. 200 mm Grafit v skladbe O2 | C21: 021 Stavby | D21: m2 | E21: 686 | F21: 42.8 | G21: =ROUND(E21*F21,2) -> 29360.8 | H21: =ROUND(G21*1.2,2) -> 35232.96 | I21: =ROUND((G21*20/100+G21)*(1-($C$10)),2) -> 35232.96
A22: 8 | B22: Kontaktný zateplovací systém hr. 260 mm Grafit v skladbe O7 | C22: 021 Stavby | D22: m2 | E22: 22 | F22: 44 | G22: =ROUND(E22*F22,2) -> 968 | H22: =ROUND(G22*1.2,2) -> 1161.6 | I22: =ROUND((G22*20/100+G22)*(1-($C$10)),2) -> 1161.6
A23: 9 | B23: Kontaktný zateplovací systém hr. 160 mm sokla v skladbe O1 | C23: 021 Stavby | D23: m2 | E23: 77.5 | F23: 31 | G23: =ROUND(E23*F23,2) -> 2402.5 | H23: =ROUND(G23*1.2,2) -> 2883 | I23: =ROUND((G23*20/100+G23)*(1-($C$10)),2) -> 2883
A24: 10 | B24: Kontaktný zateplovací systém - odtrhové skúšky | C24: 021 Stavby | D24: hzs | E24: 4 | F24: 98.8 | G24: =ROUND(E24*F24,2) -> 395.2 | H24: =ROUND(G24*1.2,2) -> 474.24 | I24: =ROUND((G24*20/100+G24)*(1-($C$10)),2) -> 474.24
A25: 11 | B25: Zatepl.vonk.ostenia šírka do150mm om.su.zm. hr.30mm | C25: 021 Stavby | D25: m | E25: 95 | F25: 14.8 | G25: =ROUND(E25*F25,2) -> 1406 | H25: =ROUND(G25*1.2,2) -> 1687.2 | I25: =ROUND((G25*20/100+G25)*(1-($C$10)),2) -> 1687.2
A26: 12 | B26: Soklová lišta hr. 1 mm k zateplovaniu stien pre izolant hr. 200mm | C26: 021 Stavby | D26: m | E26: 122 | F26: 7.2 | G26: =ROUND(E26*F26,2) -> 878.4 | H26: =ROUND(G26*1.2,2) -> 1054.08 | I26: =ROUND((G26*20/100+G26)*(1-($C$10)),2) -> 1054.08
... A35: 21 | B35: Búranie výplne zo sklenených tvárnic hr. do 10 cm-pol.búranie Sk | C35: 021 Stavby | D35: m2 | E35: 6.03 | F35: 3.8 | G35: =ROUND(E35*F35,2) -> 22.91 | H35: =ROUND(G35*1.2,2) -> 27.49 | I35: =ROUND((G35*20/100+G35)*(1-($C$10)),2) -> 27.49
A36: 22 | B36: výplne | C36: 021 Stavby | G36: =ROUND(E36*F36,2) -> 0 | H36: =ROUND(G36*1.2,2) -> 0 | I36: =ROUND((G36*20/100+G36)*(1-($C$10)),2) -> 0
A37: 23 | B37: Odvoz sute a vybúraných hmôt na skládku do 1 km | C37: 021 Stavby | D37: t | E37: 0.732 | F37: 10.07 | G37: =ROUND(E37*F37,2) -> 7.37 | H37: =ROUND(G37*1.2,2) -> 8.84 | I37: =ROUND((G37*20/100+G37)*(1-($C$10)),2) -> 8.84
A38: 24 | B38: Odvoz sute a vybúraných hmôt na skládku každý ďalší 1 km | C38: 021 Stavby | D38: t | E38: 10.98 | F38: 0.31 | G38: =ROUND(E38*F38,2) -> 3.4 | H38: =ROUND(G38*1.2,2) -> 4.08 | I38: =ROUND((G38*20/100+G38)*(1-($C$10)),2) -> 4.08
A39: 25 | B39: Poplatok za ulož.a znešk.staveb.sute na vymedzených skládkach "O"-ostatný odpad | C39: 021 Stavby | D39: t | E39: 0.732 | F39: 16.77 | G39: =ROUND(E39*F39,2) -> 12.28 | H39: =ROUND(G39*1.2,2) -> 14.74 | I39: =ROUND((G39*20/100+G39)*(1-($C$10)),2) -> 14.74
A40: 26 | B40: Presun hmôt pre budovy murované výšky do 12 m | C40: 021 Stavby | D40: t | E40: 22.422 | F40: 7.61 | G40: =ROUND(E40*F40,2) -> 170.63 | H40: =ROUND(G40*1.2,2) -> 204.76 | I40: =ROUND((G40*20/100+G40)*(1-($C$10)),2) -> 204.76
A41: 27 | B41: Obloženie stien z dosiek OSB 3 pribíjaných na zraz hr. dosky 15 mm-rímsa, rímsa vstup | C41: 021 Stavby | D41: m2 | E41: 107 | F41: 13 | G41: =ROUND(E41*F41,2) -> 1391 | H41: =ROUND(G41*1.2,2) -> 1669.2 | I41: =ROUND((G41*20/100+G41)*(1-($C$10)),2) -> 1669.2
A42: 28 | B42: Spojovacie a ochranné prostriedky k montáži obloženia stropov alebo stien | C42: 021 Stavby | D42: m2 | E42: 107 | F42: 1.01 | G42: =ROUND(E42*F42,2) -> 108.07 | H42: =ROUND(G42*1.2,2) -> 129.68 | I42: =ROUND((G42*20/100+G42)*(1-($C$10)),2) -> 129.68
A43: 29 | B43: Presun hmôt pre tesárske konštr. v objektoch výšky do 12 m | C43: 021 Stavby | D43: t | E43: 0.065 | F43: 45.55 | G43: =ROUND(E43*F43,2) -> 2.96 | H43: =ROUND(G43*1.2,2) -> 3.55 | I43: =ROUND((G43*20/100+G43)*(1-($C$10)),2) -> 3.55
A44: 30 | B44: Klamp. demont. hákov, do 30° | C44: 021 Stavby | D44: kus | E44: 56 | F44: 0.6 | G44: =ROUND(E44*F44,2) -> 33.6 | H44: =ROUND(G44*1.2,2) -> 40.32 | I44: =ROUND((G44*20/100+G44)*(1-($C$10)),2) -> 40.32
A45: 31 | B45: Klamp. PZ pl. žľaby pododkvap. polkruh. rš 250 dl 5m- pol. K6 | C45: 021 Stavby | D45: m | E45: 11.5 | F45: 7.2 | G45: =ROUND(E45*F45,2) -> 82.8 | H45: =ROUND(G45*1.2,2) -> 99.36 | I45: =ROUND((G45*20/100+G45)*(1-($C$10)),2) -> 99.36
A46: 32 | B46: Zvodová rúra PZ ZR d-80 -pol. K7 | C46: 021 Stavby | D46: m | E46: 12 | F46: 3.8 | G46: =ROUND(E46*F46,2) -> 45.6 | H46: =ROUND(G46*1.2,2) -> 54.72 | I46: =ROUND((G46*20/100+G46)*(1-($C$10)),2) -> 54.72
A47: 33 | B47: Hák klamp.s prelisom polkruhový HP28 /430-25/5/,štandard-pre K6 | C47: 021 Stavby | D47: kus | E47: 11 | F47: 1.8 | G47: =ROUND(E47*F47,2) -> 19.8 | H47: =ROUND(G47*1.2,2) -> 23.76 | I47: =ROUND((G47*20/100+G47)*(1-($C$10)),2) -> 23.76
A48: 34 | B48: Hák klamp.s prelisom polkruhový HP33 /510-30/5/,štandard-pre K4 | C48: 021 Stavby | D48: kus | E48: 117 | F48: 2.85 | G48: =ROUND(E48*F48,2) -> 333.45 | H48: =ROUND(G48*1.2,2) -> 400.14 | I48: =ROUND((G48*20/100+G48)*(1-($C$10)),2) -> 400.14
... A92: 78 | B92: Presun hmôt pre kovové stav. doplnk. konštr. v objektoch výšky do 12 m | C92: 021 Stavby | D92: t | E92: 0.043 | F92: 35.39 | G92: =ROUND(E92*F92,2) -> 1.52 | H92: =ROUND(G92*1.2,2) -> 1.82 | I92: =ROUND((G92*20/100+G92)*(1-($C$10)),2) -> 1.82
B93: Spolu výdavky | G93: =SUM(G15:G92) -> 70293.63 | H93: =SUM(H15:H92) -> 84352.36 | I93: =SUM(I15:I92) -> 84352.36
B94: Zateplenie strešného plášťa
A95: Pol. č. | B95: Názov výdavku | C95: Skupina výdavkov | D95: Merná jednotka | E95: Počet jednotiek | F95: Jednotková cena bez DPH [EUR] | G95: Cena celkom bez DPH [EUR] | H95: Cena celkom s DPH [EUR] | I95: Oprávnený výdavok
A96: 1 | B96: Odvoz sute a vybúraných hmôt na skládku do 1 km | C96: 021 Stavby | D96: t | E96: 5.139 | F96: 10.07 | G96: =ROUND(E96*F96,2) -> 51.75 | H96: =ROUND(G96*1.2,2) -> 62.1 | I96: =ROUND((G96*20/100+G96)*(1-($C$10)),2) -> 62.1
A97: 2 | B97: Odvoz sute a vybúraných hmôt na skládku každý ďalší 1 km | C97: 021 Stavby | D97: t | E97: 77.085 | F97: 0.31 | G97: =ROUND(E97*F97,2) -> 23.9 | H97: =ROUND(G97*1.2,2) -> 28.68 | I97: =ROUND((G97*20/100+G97)*(1-($C$10)),2) -> 28.68
...

Sheet Referenčné hodnoty
A2: Príloha ŽoNFP č. 11 - Podporná dokumentácia k oprávnenosti výdavkov
A9: Referenčné hodnoty pre vybrané výdavky projektu
A10: (hodnotenie hospodárnosti a efektívnosti výdavkov projektu)
A12: Názov žiadateľa: | B12: ='Podrobný rozpočet projektu'!C8:I8 -> #VALUE!
A13: Názov projektu: | B13: ='Podrobný rozpočet projektu'!C9:I9 -> #VALUE!
A15: Referenčné hodnoty pre vybrané výdavky projektu v rámci výzvy s kódom OPKZP-PO4-SC431-2016-XY
A16: Predmet projektu | B16: Referenčné hodnoty pre vybrané výdavky projektu | E16: Výstup projektu
A18: Zníženie energetickej náročnosti verejných budov – Zateplenie obvodového plášťa | B18: 85 EUR/m2 | E18: Zateplenie plochy obvodového plášťa | G18: 425000
A19: Zníženie energetickej náročnosti verejných budov – Zateplenie strešného plášťa | B19: 70 EUR/m2 | E19: Zateplenie plochy strešného plášťa | G19: 480000
A20: Zníženie energetickej náročnosti verejných budov – Výmena otvorových konštrukcií | B20: 350 EUR/m2 | E20: Výmena vonkajšej otvorovej konštrukcie | G20: 250000
A23: Výpočet referenčnej hodnoty pre vybrané výdavky projektu na zateplenie obvodového plášťa Výpočet referenčnej hodnoty pre vybrané výdavky projektu sa vykoná automaticky po zadaní predmetu projektu a cieľovej hodnoty príslušnej zateplenej plochy obvodového plášťa projektu.
A24: Predmet projektu | B24: =A18 -> Zníženie energetickej náročnosti verejných budov – Zateplenie obvodového plášťa
A25: Výstup projektu | B25: =E18 -> Zateplenie plochy obvodového plášťa
A26: Referenčná hodnota pre vybrané výdavky projektu v EUR/m2 | B26: 85
A27: Celkové oprávnené výdavky na hlavné aktivity bez rezervy, DPH a stavebného dozoru | B27: 70293.63
A28: Cieľová hodnota zateplenej plochy obvodového plášťa v m2 | B28: 958.5
A29: Vypočítaná hodnota referenčnej hodnoty pre vybrané výdavky projektu v EUR/m2 | B29: =B27/B28 -> 73.337121
A30: =IF(B29>B26,"Je potrebné zdôvodniť prekročenie benchmarku !","OK") -> OK
A32: Zdôvodnenie prekročenia referenčnej hodnoty pre vybrané výdavky projektu: v prípade prekročenia stanovenej referenčnej hodnoty pre vybrané výdavky projektu bude žiadateľ povinný zdôvodniť prekročenie referenčnej hodnoty faktormi zvýšenej investičnej náročnosti. Žiadateľ v zdôvodnení popíše výdavky, ktoré najvýznamnejšie vplývajú na prekročenie referenčnej hodnoty a zdôvodní ich nevyhnutnosť. SO posúdi, či toto prekročenie zodpovedá navrhnutému riešeniu a faktorom zvýšenej investičnej náročnosti, ktoré môžu objektívne spôsobiť zvýšenie investičnej náročnosti projektu. To znamená, že výdavky nad referenčnú hodnotu pre vybrané výdavky projektu budú akceptovateľné ako oprávnené iba v objektívne odôvodnených prípadoch. Zároveň platí, že prekročenie referenčnej hodnoty pre vybrané výdavky projektu bez relevantného a overiteľného odôvodnenia nebude vyhodnotené ako nesplnenie vylučujúceho hodnotiaceho kritéria 4.2 Hospodárnosť a efektívnosť výdavkov projektu, s tým, že tieto výdavky budú znížené a projekt nebude diskvalifikovaný.
A35: Výpočet referenčnej hodnoty pre vybrané výdavky projektu na zateplenie strešného plášťa Výpočet referenčnej hodnoty pre vybrané výdavky projektu sa vykoná automaticky po zadaní predmetu projektu a cieľovej hodnoty zateplenej plochy strešného plášťa projektu.
A36: Predmet projektu | B36: =A19 -> Zníženie energetickej náročnosti verejných budov – Zateplenie strešného plášťa
A37: Výstup projektu | B37: =E19 -> Zateplenie plochy strešného plášťa
A38: Referenčná hodnota pre vybrané výdavky projektu v EUR/m2 | B38: 70
A39: Celkové oprávnené výdavky na hlavné aktivity bez rezervy, DPH a stavebného dozoru | B39: 91605.54
A40: Cieľová hodnota zateplenej plochy strešného plášťa v m2 | B40: 775.9
A41: Vypočítaná hodnota referenčnej hodnoty pre vybrané výdavky projektu v EUR/m2 | B41: =B39/B40 -> 118.06359
A42: =IF(B41>B38,"Je potrebné zdôvodniť prekročenie benchmarku !","OK") -> Je potrebné zdôvodniť prekročenie benchmarku !
A44: Zdôvodnenie prekročenia referenčnej hodnoty pre vybrané výdavky projektu: v prípade prekročenia stanovenej referenčnej hodnoty pre vybrané výdavky projektu bude žiadateľ povinný zdôvodniť prekročenie referenčnej hodnoty faktormi zvýšenej investičnej náročnosti. Žiadateľ v zdôvodnení popíše výdavky, ktoré najvýznamnejšie vplývajú na prekročenie referenčnej hodnoty a zdôvodní ich nevyhnutnosť. SO posúdi, či toto prekročenie zodpovedá navrhnutému riešeniu a faktorom zvýšenej investičnej náročnosti, ktoré môžu objektívne spôsobiť zvýšenie investičnej náročnosti projektu. To znamená, že výdavky nad referenčnú hodnotu pre vybrané výdavky projektu budú akceptovateľné ako oprávnené iba v objektívne odôvodnených prípadoch. Zároveň platí, že prekročenie referenčnej hodnoty pre vybrané výdavky projektu bez relevantného a overiteľného odôvodnenia nebude vyhodnotené ako nesplnenie vylučujúceho hodnotiaceho kritéria 4.2 Hospodárnosť a efektívnosť výdavkov projektu, s tým, že tieto výdavky budú znížené a projekt nebude diskvalifikovaný.
A47: Výpočet referenčnej hodnoty pre vybrané výdavky projektu pre výmenu otvorových konštrukcií Výpočet referenčnej hodnoty pre vybrané výdavky projektu sa vykoná automaticky po zadaní predmetu projektu a cieľovej hodnoty výmeny otvorových konštrukcií projektu.
A48: Predmet projektu | B48: =A20 -> Zníženie energetickej náročnosti verejných budov – Výmena otvorových konštrukcií
A49: Výstup projektu | B49: =E20 -> Výmena vonkajšej otvorovej konštrukcie
A50: Referenčná hodnota pre vybrané výdavky projektu v EUR/m2 | B50: 350
A51: Celkové oprávnené výdavky na hlavné aktivity bez rezervy, DPH a stavebného dozoru | B51: 33819.01
A52: Cieľová hodnota výmeny otvorových konštrukcií v m2 | B52: 112.6
A53: Vypočítaná hodnota referenčnej hodnoty pre vybrané výdavky projektu v EUR/m2 | B53: =B51/B52 -> 300.34645
A54: =IF(B53>B50,"Je potrebné zdôvodniť prekročenie benchmarku !","OK") -> OK
A56: Zdôvodnenie prekročenia referenčnej hodnoty pre vybrané výdavky projektu: v prípade prekročenia stanovenej referenčnej hodnoty pre vybrané výdavky projektu bude žiadateľ povinný zdôvodniť prekročenie referenčnej hodnoty faktormi zvýšenej investičnej náročnosti. Žiadateľ v zdôvodnení popíše výdavky, ktoré najvýznamnejšie vplývajú na prekročenie referenčnej hodnoty a zdôvodní ich nevyhnutnosť. SO posúdi, či toto prekročenie zodpovedá navrhnutému riešeniu a faktorom zvýšenej investičnej náročnosti, ktoré môžu objektívne spôsobiť zvýšenie investičnej náročnosti projektu. To znamená, že výdavky nad referenčnú hodnotu pre vybrané výdavky projektu budú akceptovateľné ako oprávnené iba v objektívne odôvodnených prípadoch. Zároveň platí, že prekročenie referenčnej hodnoty pre vybrané výdavky projektu bez relevantného a overiteľného odôvodnenia nebude vyhodnotené ako nesplnenie vylučujúceho hodnotiaceho kritéria 4.2 Hospodárnosť a efektívnosť výdavkov projektu, s tým, že tieto výdavky budú znížené a projekt nebude diskvalifikovaný.
A63: Chocholná-Velčice dňa 08.11.2017 | D63: Pečiatka a podpis štatutárneho orgánu žiadateľa

Sheet Prieskum trhu
A2: Príloha ŽoNFP č. 11 - Podporná dokumentácia k oprávnenosti výdavkov
A11: Záznam z vyhodnotenia prieskumu trhu č. 1
A14: Názov žiadateľa: | C14: 0
A15: Názov projektu: | C15: 0
A17: Názov výdavku
A18: Stručný opis výdavku
A21: Prehľad ponúkaných cien
A23: Ponuka číslo | B23: Dodávateľ (obchodné meno a sídlo) | F23: Cena | H23: Dátum vykonania prieskumu | I23: Spôsob vykonania
F24: bez DPH | G24: s DPH
A25: 1.
A26: 2.
A27: 3.
A28: Priemerná výška | F28: =(F25+F26+F27)/3 -> 0 | G28: =(G25+G26+G27)/3 -> 0
A31: Vyhodnotenie ponúk
A33: Výška výdavku stanovená na základe prieskumu trhu
A37: V ........................................ dňa ............. | F37: Pečiatka a podpis štatutárneho orgánu žiadateľa
A39: Upozornenia:
A40: - Žiadateľ uvádza výšku výdavku, ktorá zodpovedá priemeru cien stanoveného na základe predložených ponúk, pričom sa zohľadňuje oprávnenosť financovania výdavku predstavujúceho DPH v rámci projektu. To znamená, že ak žiadateľ nemá nárok na odpočet DPH, uvádza výšku výdavku stanovenú na základe priemeru cien s DPH. Ak žiadateľ má nárok na odpočet DPH, uvádza ako výsledok prieskumu trhu výšku výdavku stanovenú na základe výpočtu priemeru z cien bez DPH. Ak dodávateľ nie je platca DPH uvádza sa v poli "cena bez DPH" a v poli "cena s DPH" rovnakú sumu.
A41: - V prípade, ak žiadateľ uvedie v rozpočte projektu výšku výdavku, ktorú stanovil na základe prieskumu trhu a táto výška výdavku prekročí sumu priemernej ceny stanovenej na základe preložených ponúk v zmysle vyhodnotenia prieskumu trhu, SO zníži príslušný nadhodnotený výdavok na úroveň priemernej ceny vypočítanej na základe hodnoty predložených cenových ponúk uvádzaných v tomto zázname z vyhodnotenia prieskumu trhu. SO je oprávnený upraviť výšku výdavku aj na základe ním vykonaného prieskumu trhu.
A42: - Žiadateľ predkladá k záznamu z vyhodnotenia písomného prieskumu trhu ako súčasť ŽoNFP aj cenové ponuky. Z dôvodu overiteľnosti vykonaného prieskumu trhu musí byť spôsob jeho vykonania v podobe, ktorá umožňuje uchovanie dôkazov o jeho vykonaní, t. j. telefonický prieskum, resp. ústne overenie cien na mieste u dodávateľa nie je akceptovateľný spôsob vykonania prieskumu trhu.
A43: - V prípade, ak žiadateľ vykonal viacej prieskumov trhu (t. j. výšku viacerých výdavkov stanovil prieskumom trhu), vyplní a predloží záznam z vyhodnotenia prieskumu trhu samostatne pre každý vykonaný prieskum trhu. Za týmto účelom žiadateľ v tomto hárku nakopíruje pod seba, očísluje (od 1 po n) a vyplní potrebný počet formulárov záznamu z vyhodnotenia prieskumu trhu. Všetky vyplnené záznamy z vyhodnotenia prieskumu trhu je žiadateľ povinný predložiť písomne aj editovateľnou elektronickou formou (nie sken) prostredníctvom ITMS2014+.
A44: - V prípade, ak žiadateľ vyberie v poli s názvom "Spôsob vykonania" možnosť "iný spôsob", je potrebné tento spôsob vykonania prieskumu trhu popísať v poli s názvom "Poznámka".
A45: Záznam z vyhodnotenia prieskumu trhu č. n
A47: Názov žiadateľa: | C47: 0
A48: Názov projektu: | C48: mesiac
A50: Názov výdavku
A51: Stručný popis výdavku
A54: Prehľad ponúkaných cien
A56: Ponuka číslo | B56: Dodávateľ (obchodné meno a sídlo) | F56: Cena | H56: Dátum vykonania prieskumu | I56: Spôsob vykonania
F57: bez DPH | G57: s DPH
A58: 1.
A59: 2.
A60: 3.
A61: Priemerná výška | F61: =(F58+F59+F60)/3 -> 0 | G61: =(G58+G59+G60)/3 -> 0
A64: Vyhodnotenie ponúk
A66: Výška výdavku stanovená na základe prieskumu trhu
A70: V ........................................ dňa ............. | F70: Pečiatka a podpis štatutárneho orgánu žiadateľa

Sheet Value for Money
A2: Príloha ŽoNFP č. 11 - Podporná dokumentácia k oprávnenosti výdavkov
A11: Príspevok projektu k špecifickému cieľu OP KŽP - princíp Value for Money
A14: Názov žiadateľa: | B14: ='Podrobný rozpočet projektu'!C8:I8 -> #VALUE!
A15: Názov projektu: | B15: ='Podrobný rozpočet projektu'!C9:I9 -> #VALUE!
A17: SO posudzuje v procese odborného hodnotenia ŽoNFP (hodnotiace kritérium 1.2) príspevok projektu k špecifickému cieľu 4.3.1 OP KŽP na základe princípu Value for Money. Uvedené znamená, že SO posudzuje kvantifikovanú mieru príspevku projektu k špecifickému cieľu 4.3.1 OP KŽP vyjadrenú na základe princípu Value for Money ako pomer celkových oprávnených výdavkov na hlavné aktivity projektu v sume vyjadrenej bez DPH a deklarovanej cieľovej hodnoty príslušného ukazovateľa projektu vzťahujúceho sa na špecifický cieľ 4.3.1 OP KŽP.
A19: Predmet projektu | B19: Miera príspevku projektu k špecifickému cieľu | C19: Limitné hodnoty (EUR/kWh/rok) | D19: Počet bodov v odbornom hodnotení za kritérium 1.2 | E19: Merateľný ukazovateľ
A20: Zníženie energetickej náročnosti verejných budov | B20: nízka | C20: viac ako 2,5 | D20: 5 | E20: Zníženie potreby energie vo verejných budovách
B21: stredná | C21: 1,5 – 2,5 | D21: 10
B22: vysoká | C22: menej ako 1,5 | D22: 15
A25: Výpočet hodnoty Value for Money Vypočítajte hodnotu príspevku projektu k príslušnému špecifickému cieľu OP KŽP ako pomer celkových oprávnených výdavkov na hlavné aktivity projektu v sume vyjadrenej bez DPH a deklarovanej cieľovej hodnoty ukazovateľa projektu – Zníženie potreby energie vo verejných budovách. Do výpočtu nevstupujú nepriame výdavky vzťahujúce sa na podporné aktivity projektu (riadenie projektu, informovanie a komunikácia). V prípade identifikácie neoprávnených výdavkov projektu (z titulu vecnej neoprávnenosti, neúčelnosti, nehospodárnosti a pod.) sa v procese odborného hodnotenia výška celkových oprávnených výdavkov projektu adekvátne zníži. Do výpočtu hodnoty Value for Money v tomto prípade vstupuje už odborným hodnotiteľom korigovaná výška celkových oprávnených výdavkov projektu (bez DPH).
U27: Výstavba, rozšírenie a zvýšenie kapacity kanalizácie (špecifický cieľ 1.2.1)
A28: Výpočet hodnoty Value for Money pre zníženie energetickej náročnosti verejných budov
A29: Celkové oprávnené výdavky na hlavné aktivity bez DPH | C29: ='Podrobný rozpočet projektu'!G530 -> 348863.75
A30: Cieľová hodnota merateľného ukazovateľa projektu v kWh/rok | C30: 428846.3
A31: Vypočítaná hodnota Value for Money | C31: =C29/C30 -> 0.81349367
A36: Chocholná-Velčice dňa 08.11.2017 | D36: Pečiatka a podpis štatutárneho orgánu žiadateľa

Sheet Úspora-vykurovanie
B1: Príloha ŽoNFP č. 11 - Podporná dokumentácia k oprávnenosti výdavkov
A8: Plánovaná úspora energie na vykurovanie
A10: Názov žiadateľa: | D10: Obec Chocholná-Velčice
A11: Názov projektu: | D11: "Zníženie energetickej náročnosti budovy obecného úradu s kultúrnym domom v obci Chocholná-Velčice."
A12: Budova n: | D12: Budova obecného úradu s kultúrnym domom v obci Chocholná - Velčice
A14: Potreba energia na vykurovanie | D14: [kWh/(m2.a)]
A15: Potreba energie na vykurovanie PRED [kWh/(m2.a)] | D15: 318747.18
A16: Potreba energie na vykurovanie PO [kWh/(m2.a)] | D16: 35298.65
A17: Výpočet celkovej plánovanej úspory energie na vykurovanie
A18: Plánovaná úspora energie na vykurovanie [%] | D18: =100*((D15-D16)/D15) -> 88.925816 | L18: =IF(D18>50,"1",IF(D18>=40,"2",IF(D18>=30,"3","0"))) -> 1 | M18: 0 | N18: Celková výška oprávnených výdavkov projektu sa neznižuje a teda celková výška oprávnených výdavkov prestavuje 100 %, ak plánovaná úspora energie na vykurovanie dosiahne viac ako 50 %.
A19: Výpočet celkového zníženia výšky oprávnených výdavkov projektu | M19: 5 | N19: Celková výška oprávnených výdavkov sa zníži o 5 percentuálnych bodov, ak plánovaná úspora energie na vykurovanie dosiahne viac ako 40 %, ale nepresiahne 50 %, t. j. žiadateľ určí výšku oprávnených výdavkov na projekt ako 95 % celkovej výšky oprávnených výdavkov projektu.
A20: Celkové zníženie oprávnených výdavkov projektu [%] | F20: Hodnota zníženia výdavkov [%] | M20: 10 | N20: Celková výška oprávnených výdavkov sa zníži o 10 percentuálnych bodov, ak plánovaná úspora energie na vykurovanie dosiahne viac ako 30 %, ale nepresiahne 40 %, t. j. žiadateľ určí výšku oprávnených výdavkov na projekt ako 90 % celkovej výšky oprávnených výdavkov projektu.
A21: =IF(D18>50,N18,IF(D18>=40,N19,IF(D18>=30,N20,N21))) -> Celková výška oprávnených výdavkov projektu sa neznižuje a teda celková výška oprávnených výdavkov prestavuje 100 %, ak plánovaná úspora energie na vykurovanie dosiahne viac ako 50 %. | F21: =IF(D18>50,"0%",IF(D18>=40,"5%",IF(D18>=30,"10%","projekt je neoprávnený"))) -> 0% | M21: 100 | N21: Ak plánovaná úspora energie na vykurovanie dosiahne najviac 30 %, projekt nespĺňa podmienky oprávnenosti aktivít a nemôže byť podporený.
A23: Upozornenia:
A24: V prípade, ak je predmetom projektu viac samostatných budov so samostatným energetickým auditom, sa výdavky upravia o najvyššiu hodnotu zníženia výdavkov. V prípade ak jedna y budov nedosiahne úsporu energie na vykurovanie aspoň 30 % projekt bude neoprávnený ako celok.
A25: V tabuľke je uvedený príklad vyplnenia údajov s ohľadom na určenie plánovanej úspory energie na vykurovanie.
A26: V prípade, ak v priebehu realizácie projektu na základe identifikácie reálneho stavu dôjde v podstatne zmenenom rozsahu v akom bola zohľadnená plánovaná úspora energie na vykurovanie pri podaní ŽoNFP, pričom tento rozsah predstavuje podstatnú zmenu, SO môže požadovať rekalkuláciu celkového zníženia oprávnených výdavkov projektu za účelom overenia správnej výšky oprávnených výdavkov.
A27: V zmysle časti 6.6. písmeno a) zmluvy o poskytnutí NFP, v prípade Merateľných ukazovateľov Projektu s príznakom ich hodnota nesmie klesnúť pod hranicu 50% ich výšky. Zníženie jednotlivého Merateľného ukazovateľa Projektu s príznakom o viac ako 50% oproti výške, ktorá bola uvedená v Schválenej žiadosti o NFP, môže predstavovať Podstatnú zmenu Projektu a vyvolávať právne následky.
A28: V prípade, ak je predmetom projektu viac samostatných budov so samostatným energetickým auditom, žiadateľ vyplní a predloží samostatne výpočet plánovanej úspory energie na vykurovanie za každú budovu. Za týmto účelom žiadateľ v tomto hárku nakopíruje pod seba, očísluje (od 1 po n) a vyplní potrebný počet formulárov výpočtu plánovanej úspory. Všetky vyplnené záznamy z výpočtu plánovanej úspory je žiadateľ povinný predložiť písomne aj editovateľnou elektronickou formou (nie sken) prostredníctvom ITMS2014+.
